BEGIN:VCALENDAR
VERSION:2.0
PRODID:-//wp-events-plugin.com//6.6.4.4//EN
BEGIN:VEVENT
UID:10@bowlsnewzealand.co.nz
DTSTART;TZID=Pacific/Auckland;VALUE=DATE:20250725
DTEND;TZID=Pacific/Auckland;VALUE=DATE:20250728
DTSTAMP:20250114T231619Z
URL:https://bowlsnewzealand.co.nz/events/national-champion-of-champions-me
 ns-fours/
SUMMARY:National Champion of Champions Men's Fours
DESCRIPTION:
ATTACH;FMTTYPE=image/jpeg:https://bowlsnewzealand.co.nz/wp-content/uploads
 /2025/01/Ch-Ch-fours.png
LOCATION:Hopes Dunedin Lawn Bowls Stadium\, Hopes Dunedin Lawn Bowls Stadiu
 m\, Dunedin\, New Zealand
GEO:-45.903869;170.523899
X-APPLE-STRUCTURED-LOCATION;VALUE=URI;X-ADDRESS=Hopes Dunedin Lawn Bowls St
 adium\, Dunedin\, New Zealand;X-APPLE-RADIUS=100;X-TITLE=Hopes Dunedin Law
 n Bowls Stadium:geo:-45.903869,170.523899
END:VEVENT
BEGIN:VTIMEZONE
TZID:Pacific/Auckland
X-LIC-LOCATION:Pacific/Auckland
BEGIN:STANDARD
DTSTART:20250406T020000
TZOFFSETFROM:+1300
TZOFFSETTO:+1200
TZNAME:NZST
END:STANDARD
END:VTIMEZONE
END:VCALENDAR